BEGIN:VCALENDAR
VERSION:2.0
PRODID:-//Trachtenkapelle Kniebis - ECPv6.15.11//NONSGML v1.0//EN
CALSCALE:GREGORIAN
METHOD:PUBLISH
X-ORIGINAL-URL:https://trachtenkapelle-kniebis.de
X-WR-CALDESC:Veranstaltungen für Trachtenkapelle Kniebis
REFRESH-INTERVAL;VALUE=DURATION:PT1H
X-Robots-Tag:noindex
X-PUBLISHED-TTL:PT1H
BEGIN:VTIMEZONE
TZID:Europe/Berlin
BEGIN:DAYLIGHT
TZOFFSETFROM:+0100
TZOFFSETTO:+0200
TZNAME:CEST
DTSTART:20250330T010000
END:DAYLIGHT
BEGIN:STANDARD
TZOFFSETFROM:+0200
TZOFFSETTO:+0100
TZNAME:CET
DTSTART:20251026T010000
END:STANDARD
BEGIN:DAYLIGHT
TZOFFSETFROM:+0100
TZOFFSETTO:+0200
TZNAME:CEST
DTSTART:20260329T010000
END:DAYLIGHT
BEGIN:STANDARD
TZOFFSETFROM:+0200
TZOFFSETTO:+0100
TZNAME:CET
DTSTART:20261025T010000
END:STANDARD
BEGIN:DAYLIGHT
TZOFFSETFROM:+0100
TZOFFSETTO:+0200
TZNAME:CEST
DTSTART:20270328T010000
END:DAYLIGHT
BEGIN:STANDARD
TZOFFSETFROM:+0200
TZOFFSETTO:+0100
TZNAME:CET
DTSTART:20271031T010000
END:STANDARD
END:VTIMEZONE
BEGIN:VEVENT
DTSTART;TZID=Europe/Berlin:20260901T190000
DTEND;TZID=Europe/Berlin:20260901T210000
DTSTAMP:20260422T195136
CREATED:20250117T063520Z
LAST-MODIFIED:20260210T092135Z
UID:1327-1788289200-1788296400@trachtenkapelle-kniebis.de
SUMMARY:Freudenstadt - Speckwirt
DESCRIPTION:
URL:https://trachtenkapelle-kniebis.de/veranstaltung/freudenstadt-speckwirt-3/
LOCATION:Speckwirt\, Marktplatz 45\, Freudenstadt\, 72250\, Germany
ATTACH;FMTTYPE=image/jpeg:https://trachtenkapelle-kniebis.de/wp-content/uploads/2025/01/53af666b-bb52-45a0-8ca5-0cfc5b6f90cc.jpg
ORGANIZER;CN="Trachtenkapelle Kniebis e.V.":MAILTO:jochen-klumpp@kniebis.de
END:VEVENT
BEGIN:VEVENT
DTSTART;TZID=Europe/Berlin:20260915T200000
DTEND;TZID=Europe/Berlin:20260915T220000
DTSTAMP:20260422T195136
CREATED:20250117T063605Z
LAST-MODIFIED:20260210T090523Z
UID:1329-1789502400-1789509600@trachtenkapelle-kniebis.de
SUMMARY:Freudenstadt - Hohenfreudenstadt
DESCRIPTION:
URL:https://trachtenkapelle-kniebis.de/veranstaltung/freudenstadt-hohenfreudenstadt-7/
LOCATION:Klinik Hohenfreudenstadt\, Tripsenweg 17\, Freudenstadt\, 72250\, Germany
ATTACH;FMTTYPE=image/png:https://trachtenkapelle-kniebis.de/wp-content/uploads/2025/01/Hohenfreudenstadt.png
ORGANIZER;CN="Trachtenkapelle Kniebis e.V.":MAILTO:jochen-klumpp@kniebis.de
END:VEVENT
END:VCALENDAR